BEGIN:VCALENDAR
VERSION:2.0
PRODID:-//Quirinux GNU/Linux - ECPv6.15.20//NONSGML v1.0//EN
CALSCALE:GREGORIAN
METHOD:PUBLISH
X-ORIGINAL-URL:https://quirinux.org
X-WR-CALDESC:Eventos para Quirinux GNU/Linux
REFRESH-INTERVAL;VALUE=DURATION:PT1H
X-Robots-Tag:noindex
X-PUBLISHED-TTL:PT1H
BEGIN:VTIMEZONE
TZID:America/Argentina/Buenos_Aires
BEGIN:STANDARD
TZOFFSETFROM:-0300
TZOFFSETTO:-0300
TZNAME:-03
DTSTART:20240101T000000
END:STANDARD
END:VTIMEZONE
BEGIN:VEVENT
DTSTART;TZID=America/Argentina/Buenos_Aires:20250520T200000
DTEND;TZID=America/Argentina/Buenos_Aires:20250520T201000
DTSTAMP:20260420T041319
CREATED:20260304T104226Z
LAST-MODIFIED:20260304T123733Z
UID:4838-1747771200-1747771800@quirinux.org
SUMMARY:Quirinux como herramienta para estudiantes de animación en Anima Latina 2025
DESCRIPTION:Presentación de Quirinux GNU/Linux como herramienta para estudiantes de cine animado.\nEn el marco del Festival Anima Latina.\nPonente: Charlie Martínez\, creador del sistema.\nZona horaria GMT-3 (Argentina)\nEvento gratuito.\n\nDcRviqEXbPRQKqX ngDg A yyikBUUJt
URL:https://quirinux.org/event/quirinux-como-herramienta-para-estudiantes-de-animacion/
LOCATION:Centro Cultural San Martín\, Sarmiento 1551\, Ciudad Autónoma de Buenos Aires\, Capital Federal\, Argentina
CATEGORIES:Eventos en Argentina,Eventos presenciales
ATTACH;FMTTYPE=image/png:https://quirinux.org/wp-content/uploads/2026/03/anima-latina.png
ORGANIZER;CN="Festival Anima Latina":MAILTO:festivalanimalatina@gmail.com
END:VEVENT
END:VCALENDAR