BEGIN:VCALENDAR
VERSION:2.0
PRODID:-//Quirinux GNU/Linux - ECPv6.15.20//NONSGML v1.0//EN
CALSCALE:GREGORIAN
METHOD:PUBLISH
X-ORIGINAL-URL:https://quirinux.org
X-WR-CALDESC:Eventos para Quirinux GNU/Linux
REFRESH-INTERVAL;VALUE=DURATION:PT1H
X-Robots-Tag:noindex
X-PUBLISHED-TTL:PT1H
BEGIN:VTIMEZONE
TZID:UTC
BEGIN:STANDARD
TZOFFSETFROM:+0000
TZOFFSETTO:+0000
TZNAME:UTC
DTSTART:20240101T000000
END:STANDARD
END:VTIMEZONE
BEGIN:VEVENT
DTSTART;TZID=UTC:20251013T100000
DTEND;TZID=UTC:20251013T123000
DTSTAMP:20260419T184434
CREATED:20260304T102054Z
LAST-MODIFIED:20260304T111439Z
UID:4831-1760349600-1760358600@quirinux.org
SUMMARY:Clase abierta\, presentación del curso de Stop Motion 2025
DESCRIPTION:Clase abierta virtual de introducción al Curso de animación en Stop Motion 2025.\nEn Ultra Escuela\, aula virtual.\nPonente: Charlie Martínez\, profesor del curso.\nZona horaria GMT-3 (Argentina).\nEntrada gratis.
URL:https://quirinux.org/event/clase-abierta-presentacion-del-curso-de-stop-motion-2025/
LOCATION:A Coruña
CATEGORIES:Eventos online
ATTACH;FMTTYPE=image/png:https://quirinux.org/wp-content/uploads/2025/12/ultra-escuela.png
END:VEVENT
END:VCALENDAR