BEGIN:VCALENDAR
VERSION:2.0
PRODID:-//Quirinux GNU/Linux - ECPv6.15.20//NONSGML v1.0//EN
CALSCALE:GREGORIAN
METHOD:PUBLISH
X-ORIGINAL-URL:https://quirinux.org
X-WR-CALDESC:Eventos para Quirinux GNU/Linux
REFRESH-INTERVAL;VALUE=DURATION:PT1H
X-Robots-Tag:noindex
X-PUBLISHED-TTL:PT1H
BEGIN:VTIMEZONE
TZID:America/Argentina/Buenos_Aires
BEGIN:STANDARD
TZOFFSETFROM:-0300
TZOFFSETTO:-0300
TZNAME:-03
DTSTART:20240101T000000
END:STANDARD
END:VTIMEZONE
BEGIN:VEVENT
DTSTART;TZID=America/Argentina/Buenos_Aires:20250426T133000
DTEND;TZID=America/Argentina/Buenos_Aires:20250426T143000
DTSTAMP:20260420T041415
CREATED:20260304T105422Z
LAST-MODIFIED:20260304T111019Z
UID:4843-1745674200-1745677800@quirinux.org
SUMMARY:Quirinux GNU/LINUX 2.0: Hacia un nuevo estándar para el cine animado en FLISoL 2025
DESCRIPTION:Charla sobre la nueva versión de Quirinux\, el sistema operativo para el cine animado.\nEn el marco del Festival Latinoamericano de Instalación de Software Libre.\nPonente: Charlie Martínez\, creador del sistema.\nZona horaria GMT-3 (Argentina).\nEntrada gratis.
URL:https://quirinux.org/event/quirinux-gnu-linux-2-0-hacia-un-nuevo-estandar-para-el-cine-animado/
LOCATION:Instituto Nacional Superior del Profesorado Técnico – UTN\, Av. Triunvirato 3174\, Ciudad Autónoma de Buenos Aires\, Capital Federal\, Argentina
CATEGORIES:Eventos en Argentina,Eventos presenciales
ATTACH;FMTTYPE=image/png:https://quirinux.org/wp-content/uploads/2026/03/flisol-quirinux.png
END:VEVENT
END:VCALENDAR